Workbook

Sheet PL33
J1: Mẫu PL33
A2: UBND THÀNH PHỐ HỒ CHÍ MINH | E2: CỘNG HÒA XÃ HỘI CHỦ NGHĨA VIỆT NAM
A3: TRƯỜNG CAO ĐẲNG LÝ TỰ TRỌNG THÀNH PHỐ HỒ CHÍ MINH | E3: Độc lập - Tự do - Hạnh phúc
A5: BẢNG TỔNG HỢP THAM QUAN THỰC TẾ
A6: NĂM HỌC 2017 - 2018
A7: KHOA: ……………………………………..
A9: TT | B9: HỌ VÀ TÊN GIẢNG VIÊN | D9: THỜI GIAN THAM DỰ | I9: TỔNG SỐ GIỜ ĐƯỢC TÍNH | J9: GHI CHÚ
A11: 1 | B11: Ngô Hoàng | C11: Anh | D11: X | E11: X | I11: =COUNTIF(D11:H11,"X")*4 -> 8
A12: 2 | B12: Châu Văn | C12: Bảo | I12: =COUNTIF(D12:H12,"X")*4 -> 0
A13: 3 | B13: Vũ Hạnh | C13: Chiêu | I13: =COUNTIF(D13:H13,"X")*4 -> 0
A14: 4 | B14: Ngô Phong | C14: Cường | I14: =COUNTIF(D14:H14,"X")*4 -> 0
A15: 5 | B15: Nguyễn Minh Đức | C15: Cường | I15: =COUNTIF(D15:H15,"X")*4 -> 0
A16: 6 | B16: Tạ Minh | C16: Cường | I16: =COUNTIF(D16:H16,"X")*4 -> 0
A17: 7 | B17: Võ | C17: Cường | I17: =COUNTIF(D17:H17,"X")*4 -> 0
A18: 8 | B18: Nguyễn Thùy | C18: Dương | I18: =COUNTIF(D18:H18,"X")*4 -> 0
A19: 9 | B19: Lê Tiến | C19: Đạt | I19: =COUNTIF(D19:H19,"X")*4 -> 0
A20: 10 | B20: Nguyễn Hồng | C20: Đức | I20: =COUNTIF(D20:H20,"X")*4 -> 0
A21: 11 | B21: Nguyễn Minh | C21: Đức(A) | I21: =COUNTIF(D21:H21,"X")*4 -> 0
A22: 12 | B22: Nguyễn Minh | C22: Đức(B) | I22: =COUNTIF(D22:H22,"X")*4 -> 0
A23: 13 | B23: Nguyễn Thị Ngọc | C23: Hiền | I23: =COUNTIF(D23:H23,"X")*4 -> 0
... A42: 32 | B42: Cao Văn | C42: Tuấn | I42: =COUNTIF(D42:H42,"X")*4 -> 0
A43: 33 | I43: =COUNTIF(D43:H43,"X")*4 -> 0
A44: 34 | I44: =COUNTIF(D44:H44,"X")*4 -> 0
A45: 35 | I45: =COUNTIF(D45:H45,"X")*4 -> 0
A46: 36 | I46: =COUNTIF(D46:H46,"X")*4 -> 0
A47: 37 | I47: =COUNTIF(D47:H47,"X")*4 -> 0
A48: 38 | I48: =COUNTIF(D48:H48,"X")*4 -> 0
A49: 39 | I49: =COUNTIF(D49:H49,"X")*4 -> 0
A50: 40 | I50: =COUNTIF(D50:H50,"X")*4 -> 0
A51: 41 | I51: =COUNTIF(D51:H51,"X")*4 -> 0
A52: 42 | I52: =COUNTIF(D52:H52,"X")*4 -> 0
A53: 43 | I53: =COUNTIF(D53:H53,"X")*4 -> 0
A54: 44 | I54: =COUNTIF(D54:H54,"X")*4 -> 0
... A60: 50 | I60: =COUNTIF(D60:H60,"X")*4 -> 0
B62: Minh chứng nộp kèm: Kế hoạch được Hiệu trưởng duyệt và danh sách tham dự thực tế. | F62: Tp.HCM, Ngày tháng năm 2018
C63: Trưởng Khoa | F63: Người lập biểu

Sheet PL34.1
AW1: Mẫu PL34.1
A2: UBND THÀNH PHỐ HỒ CHÍ MINH | AF2: CỘNG HÒA XÃ HỘI CHỦ NGHĨA VIỆT NAM
A3: TRƯỜNG CAO ĐẲNG LÝ TỰ TRỌNG THÀNH PHỐ HỒ CHÍ MINH | AF3: Độc lập - Tự do - Hạnh phúc
A5: BẢNG TỔNG HỢP HỌP VỀ CÔNG TÁC CHUYÊN MÔN ĐỊNH KỲ, HỌC TẬP CHÍNH TRỊ
A6: NĂM HỌC 2017 - 2018
A7: KHOA: ………………………………
A9: TT | B9: HỌ VÀ TÊN GIẢNG VIÊN | D9: HỌP VỀ CÔNG TÁC CHUYÊN MÔN ĐỊNH KỲ | AZ9: TỔNG SỐ GIỜ ĐƯỢC TÍNH
D10: T9/ 2017 | H10: T10 | L10: T11 | P10: T12 | T10: T01/ 2018 | X10: T02 | AB10: T 3 | AF10: T4 | AJ10: T5 | AN10: T 6 | AR10: T 7 | AV10: T 8
A11: 1 | B11: =IF('PL33'!B11="","",'PL33'!B11) -> Ngô Hoàng | C11: =IF('PL33'!C11="","",'PL33'!C11) -> Anh | D11: X | E11: X | G11: X | H11: X | I11: X | J11: X | K11: X | L11: X | M11: X | N11: X | O11: X | P11: X | Q11: X | AZ11: =COUNTIF(D11:AY11,"X")*4 -> 52
A12: 2 | B12: =IF('PL33'!B12="","",'PL33'!B12) -> Châu Văn | C12: =IF('PL33'!C12="","",'PL33'!C12) -> Bảo | F12: x | G12: x | H12: x | I12: x | J12: x | K12: x | AZ12: =COUNTIF(D12:AY12,"X")*4 -> 24
A13: 3 | B13: =IF('PL33'!B13="","",'PL33'!B13) -> Vũ Hạnh | C13: =IF('PL33'!C13="","",'PL33'!C13) -> Chiêu | D13: x | E13: x | F13: x | H13: x | I13: x | J13: x | K13: x | L13: x | M13: x | O13: x | AZ13: =COUNTIF(D13:AY13,"X")*4 -> 40
A14: 4 | B14: =IF('PL33'!B14="","",'PL33'!B14) -> Ngô Phong | C14: =IF('PL33'!C14="","",'PL33'!C14) -> Cường | AZ14: =COUNTIF(D14:AY14,"X")*4 -> 0
A15: 5 | B15: =IF('PL33'!B15="","",'PL33'!B15) -> Nguyễn Minh Đức | C15: =IF('PL33'!C15="","",'PL33'!C15) -> Cường | AZ15: =COUNTIF(D15:AY15,"X")*4 -> 0
A16: 6 | B16: =IF('PL33'!B16="","",'PL33'!B16) -> Tạ Minh | C16: =IF('PL33'!C16="","",'PL33'!C16) -> Cường | AZ16: =COUNTIF(D16:AY16,"X")*4 -> 0
A17: 7 | B17: =IF('PL33'!B17="","",'PL33'!B17) -> Võ | C17: =IF('PL33'!C17="","",'PL33'!C17) -> Cường | AZ17: =COUNTIF(D17:AY17,"X")*4 -> 0
A18: 8 | B18: =IF('PL33'!B18="","",'PL33'!B18) -> Nguyễn Thùy | C18: =IF('PL33'!C18="","",'PL33'!C18) -> Dương | AZ18: =COUNTIF(D18:AY18,"X")*4 -> 0
A19: 9 | B19: =IF('PL33'!B19="","",'PL33'!B19) -> Lê Tiến | C19: =IF('PL33'!C19="","",'PL33'!C19) -> Đạt | AZ19: =COUNTIF(D19:AY19,"X")*4 -> 0
A20: 10 | B20: =IF('PL33'!B20="","",'PL33'!B20) -> Nguyễn Hồng | C20: =IF('PL33'!C20="","",'PL33'!C20) -> Đức | AZ20: =COUNTIF(D20:AY20,"X")*4 -> 0
A21: 11 | B21: =IF('PL33'!B21="","",'PL33'!B21) -> Nguyễn Minh | C21: =IF('PL33'!C21="","",'PL33'!C21) -> Đức(A) | AZ21: =COUNTIF(D21:AY21,"X")*4 -> 0
A22: 12 | B22: =IF('PL33'!B22="","",'PL33'!B22) -> Nguyễn Minh | C22: =IF('PL33'!C22="","",'PL33'!C22) -> Đức(B) | AZ22: =COUNTIF(D22:AY22,"X")*4 -> 0
A23: 13 | B23: =IF('PL33'!B23="","",'PL33'!B23) -> Nguyễn Thị Ngọc | C23: =IF('PL33'!C23="","",'PL33'!C23) -> Hiền | AZ23: =COUNTIF(D23:AY23,"X")*4 -> 0
A24: 14 | B24: =IF('PL33'!B24="","",'PL33'!B24) -> Trần Trung | C24: =IF('PL33'!C24="","",'PL33'!C24) -> Hiếu | AZ24: =COUNTIF(D24:AY24,"X")*4 -> 0
A25: 15 | B25: =IF('PL33'!B25="","",'PL33'!B25) -> Mạnh Lê | C25: =IF('PL33'!C25="","",'PL33'!C25) -> Hoàn | AZ25: =COUNTIF(D25:AY25,"X")*4 -> 0
... A60: 50 | B60: =IF('PL33'!B60="","",'PL33'!B60) | C60: =IF('PL33'!C60="","",'PL33'!C60) | AZ60: =COUNTIF(D60:AY60,"X")*4 -> 0
B61: Minh chứng nộp kèm: Biên bản họp có danh sách GV dự họp thực tế. | AN61: TP.HCM, Ngày tháng năm 2018
C62: Trưởng Khoa | AN62: Người lập biểu

Sheet PL34.2
P1: Mẫu PL34.2
A2: UBND THÀNH PHỐ HỒ CHÍ MINH | K2: CỘNG HÒA XÃ HỘI CHỦ NGHĨA VIỆT NAM
A3: TRƯỜNG CAO ĐẲNG LÝ TỰ TRỌNG THÀNH PHỐ HỒ CHÍ MINH | K3: Độc lập - Tự do - Hạnh phúc
A5: BẢNG TỔNG HỢP HỌP VỀ CÔNG TÁC CHUYÊN MÔN ĐỘT XUẤT
A6: NĂM HỌC 2017 - 2018
A7: KHOA: ………………………………
A10: TT | B10: HỌ VÀ TÊN GIẢNG VIÊN | D10: THỜI GIAN | F10: NỘI DUNG HỌP | N10: SỐ GIỜ ĐƯỢC TÍNH | P10: TỔNG SỐ GIỜ ĐƯỢC TÍNH
A11: 1 | B11: =IF('PL33'!B11="","",'PL33'!B11) -> Ngô Hoàng | C11: =IF('PL33'!C11="","",'PL33'!C11) -> Anh | P11: =N11+N12+N13+N14+N15+N16+N17+N18+N19+N20 -> 0
A21: 2 | B21: =IF('PL33'!B12="","",'PL33'!B12) -> Châu Văn | C21: =IF('PL33'!C12="","",'PL33'!C12) -> Bảo | P21: =N21+N22+N23+N24+N25+N26+N27+N28+N29+N30 -> 0
A31: 3 | B31: =IF('PL33'!B13="","",'PL33'!B13) -> Vũ Hạnh | C31: =IF('PL33'!C13="","",'PL33'!C13) -> Chiêu | P31: =N31+N32+N33+N34+N35+N36+N37+N38+N39+N40 -> 0
A41: 4 | B41: =IF('PL33'!B14="","",'PL33'!B14) -> Ngô Phong | C41: =IF('PL33'!C14="","",'PL33'!C14) -> Cường | P41: =N41+N42+N43+N44+N45+N46+N47+N48+N49+N50 -> 0
A51: 5 | B51: =IF('PL33'!B15="","",'PL33'!B15) -> Nguyễn Minh Đức | C51: =IF('PL33'!C15="","",'PL33'!C15) -> Cường | P51: =N51+N52+N53+N54+N55+N56+N57+N58+N59+N60 -> 0
A61: 6 | B61: =IF('PL33'!B16="","",'PL33'!B16) -> Tạ Minh | C61: =IF('PL33'!C16="","",'PL33'!C16) -> Cường | P61: =N61+N62+N63+N64+N65+N66+N67+N68+N69+N70 -> 0
A71: 7 | B71: =IF('PL33'!B17="","",'PL33'!B17) -> Võ | C71: =IF('PL33'!C17="","",'PL33'!C17) -> Cường | P71: =N71+N72+N73+N74+N75+N76+N77+N78+N79+N80 -> 0
A81: 8 | B81: =IF('PL33'!B18="","",'PL33'!B18) -> Nguyễn Thùy | C81: =IF('PL33'!C18="","",'PL33'!C18) -> Dương | P81: =N81+N82+N83+N84+N85+N86+N87+N88+N89+N90 -> 0
A91: 9 | B91: =IF('PL33'!B19="","",'PL33'!B19) -> Lê Tiến | C91: =IF('PL33'!C19="","",'PL33'!C19) -> Đạt | P91: =N91+N92+N93+N94+N95+N96+N97+N98+N99+N100 -> 0
A101: 10 | B101: =IF('PL33'!B20="","",'PL33'!B20) -> Nguyễn Hồng | C101: =IF('PL33'!C20="","",'PL33'!C20) -> Đức | P101: =N101+N102+N103+N104+N105+N106+N107+N108+N109+N110 -> 0
A111: 11 | B111: =IF('PL33'!B21="","",'PL33'!B21) -> Nguyễn Minh | C111: =IF('PL33'!C21="","",'PL33'!C21) -> Đức(A) | P111: =N111+N112+N113+N114+N115+N116+N117+N118+N119+N120 -> 0
A121: 12 | B121: =IF('PL33'!B22="","",'PL33'!B22) -> Nguyễn Minh | C121: =IF('PL33'!C22="","",'PL33'!C22) -> Đức(B) | P121: =N121+N122+N123+N124+N125+N126+N127+N128+N129+N130 -> 0
A131: 13 | B131: =IF('PL33'!B23="","",'PL33'!B23) -> Nguyễn Thị Ngọc | C131: =IF('PL33'!C23="","",'PL33'!C23) -> Hiền | P131: =N131+N132+N133+N134+N135+N136+N137+N138+N139+N140 -> 0
A141: 14 | B141: =IF('PL33'!B24="","",'PL33'!B24) -> Trần Trung | C141: =IF('PL33'!C24="","",'PL33'!C24) -> Hiếu | P141: =N141+N142+N143+N144+N145+N146+N147+N148+N149+N150 -> 0
A151: 15 | B151: =IF('PL33'!B25="","",'PL33'!B25) -> Mạnh Lê | C151: =IF('PL33'!C25="","",'PL33'!C25) -> Hoàn | P151: =N151+N152+N153+N154+N155+N156+N157+N158+N159+N160 -> 0
A161: 16 | B161: =IF('PL33'!B26="","",'PL33'!B26) -> Lê Thế | C161: =IF('PL33'!C26="","",'PL33'!C26) -> Huân | P161: =N161+N162+N163+N164+N165+N166+N167+N168+N169+N170 -> 0
A171: 17 | B171: =IF('PL33'!B27="","",'PL33'!B27) -> Tăng Cẩm | C171: =IF('PL33'!C27="","",'PL33'!C27) -> Huê | P171: =N171+N172+N173+N174+N175+N176+N177+N178+N179+N180 -> 0
A181: 18 | B181: =IF('PL33'!B28="","",'PL33'!B28) -> Nguyễn Thùy | C181: =IF('PL33'!C28="","",'PL33'!C28) -> Linh | P181: =N181+N182+N183+N184+N185+N186+N187+N188+N189+N190 -> 0
A191: 19 | B191: =IF('PL33'!B29="","",'PL33'!B29) -> Huỳnh Ngọc | C191: =IF('PL33'!C29="","",'PL33'!C29) -> Mai | P191: =N191+N192+N193+N194+N195+N196+N197+N198+N199+N200 -> 0
A201: 20 | B201: =IF('PL33'!B30="","",'PL33'!B30) -> Đặng Đức | C201: =IF('PL33'!C30="","",'PL33'!C30) -> Minh | P201: =N201+N202+N203+N204+N205+N206+N207+N208+N209+N210 -> 0
A211: 21 | B211: =IF('PL33'!B31="","",'PL33'!B31) -> Nguyễn Thị Tố | C211: =IF('PL33'!C31="","",'PL33'!C31) -> Nga | P211: =N211+N212+N213+N214+N215+N216+N217+N218+N219+N220 -> 0
A221: 22 | B221: =IF('PL33'!B32="","",'PL33'!B32) -> Nguyễn Trần Thanh | C221: =IF('PL33'!C32="","",'PL33'!C32) -> Nhàn | P221: =N221+N222+N223+N224+N225+N226+N227+N228+N229+N230 -> 0
A231: 23 | B231: =IF('PL33'!B33="","",'PL33'!B33) -> Đỗ Huỳnh Thanh | C231: =IF('PL33'!C33="","",'PL33'!C33) -> Phong | P231: =N231+N232+N233+N234+N235+N236+N237+N238+N239+N240 -> 0
A241: 24 | B241: =IF('PL33'!B34="","",'PL33'!B34) -> Nguyễn Anh | C241: =IF('PL33'!C34="","",'PL33'!C34) -> Tăng | P241: =N241+N242+N243+N244+N245+N246+N247+N248+N249+N250 -> 0
A251: 25 | B251: =IF('PL33'!B35="","",'PL33'!B35) -> Quách Minh | C251: =IF('PL33'!C35="","",'PL33'!C35) -> Thử | P251: =N251+N252+N253+N254+N255+N256+N257+N258+N259+N260 -> 0
A261: 26 | B261: =IF('PL33'!B36="","",'PL33'!B36) -> Trần Công | C261: =IF('PL33'!C36="","",'PL33'!C36) -> Tiến | P261: =N261+N262+N263+N264+N265+N266+N267+N268+N269+N270 -> 0
A271: 27 | B271: =IF('PL33'!B37="","",'PL33'!B37) -> Bốc Minh | C271: =IF('PL33'!C37="","",'PL33'!C37) -> Trí | P271: =N271+N272+N273+N274+N275+N276+N277+N278+N279+N280 -> 0
A281: 28 | B281: =IF('PL33'!B38="","",'PL33'!B38) -> Trần Hiếu | C281: =IF('PL33'!C38="","",'PL33'!C38) -> Trinh | P281: =N281+N282+N283+N284+N285+N286+N287+N288+N289+N290 -> 0
A291: 29 | B291: =IF('PL33'!B39="","",'PL33'!B39) -> Trần Nguyên Bảo | C291: =IF('PL33'!C39="","",'PL33'!C39) -> Trân | P291: =N291+N292+N293+N294+N295+N296+N297+N298+N299+N300 -> 0
A301: 30 | B301: =IF('PL33'!B40="","",'PL33'!B40) -> Nguyễn Văn | C301: =IF('PL33'!C40="","",'PL33'!C40) -> Yên | P301: =N301+N302+N303+N304+N305+N306+N307+N308+N309+N310 -> 0
A311: 31 | B311: =IF('PL33'!B41="","",'PL33'!B41) -> Trần Nam | C311: =IF('PL33'!C41="","",'PL33'!C41) -> Anh | P311: =N311+N312+N313+N314+N315+N316+N317+N318+N319+N320 -> 0
A321: 32 | B321: =IF('PL33'!B42="","",'PL33'!B42) -> Cao Văn | C321: =IF('PL33'!C42="","",'PL33'!C42) -> Tuấn | P321: =N321+N322+N323+N324+N325+N326+N327+N328+N329+N330 -> 0
A331: 33 | B331: =IF('PL33'!B43="","",'PL33'!B43) | C331: =IF('PL33'!C43="","",'PL33'!C43) | P331: =N331+N332+N333+N334+N335+N336+N337+N338+N339+N340 -> 0
A341: 34 | B341: =IF('PL33'!B44="","",'PL33'!B44) | C341: =IF('PL33'!C44="","",'PL33'!C44) | P341: =N341+N342+N343+N344+N345+N346+N347+N348+N349+N350 -> 0
A351: 35 | B351: =IF('PL33'!B45="","",'PL33'!B45) | C351: =IF('PL33'!C45="","",'PL33'!C45) | P351: =N351+N352+N353+N354+N355+N356+N357+N358+N359+N360 -> 0
A361: 36 | B361: =IF('PL33'!B46="","",'PL33'!B46) | C361: =IF('PL33'!C46="","",'PL33'!C46) | P361: =N361+N362+N363+N364+N365+N366+N367+N368+N369+N370 -> 0
A371: 37 | B371: =IF('PL33'!B47="","",'PL33'!B47) | C371: =IF('PL33'!C47="","",'PL33'!C47) | P371: =N371+N372+N373+N374+N375+N376+N377+N378+N379+N380 -> 0
A381: 38 | B381: =IF('PL33'!B48="","",'PL33'!B48) | C381: =IF('PL33'!C48="","",'PL33'!C48) | P381: =N381+N382+N383+N384+N385+N386+N387+N388+N389+N390 -> 0
A391: 39 | B391: =IF('PL33'!B49="","",'PL33'!B49) | C391: =IF('PL33'!C49="","",'PL33'!C49) | P391: =N391+N392+N393+N394+N395+N396+N397+N398+N399+N400 -> 0
A401: 40 | B401: =IF('PL33'!B50="","",'PL33'!B50) | C401: =IF('PL33'!C50="","",'PL33'!C50) | P401: =N401+N402+N403+N404+N405+N406+N407+N408+N409+N410 -> 0
A411: 41 | B411: =IF('PL33'!B51="","",'PL33'!B51) | C411: =IF('PL33'!C51="","",'PL33'!C51) | P411: =N411+N412+N413+N414+N415+N416+N417+N418+N419+N420 -> 0
A421: 42 | B421: =IF('PL33'!B52="","",'PL33'!B52) | C421: =IF('PL33'!C52="","",'PL33'!C52) | P421: =N421+N422+N423+N424+N425+N426+N427+N428+N429+N430 -> 0
A431: 43 | B431: =IF('PL33'!B53="","",'PL33'!B53) | C431: =IF('PL33'!C53="","",'PL33'!C53) | P431: =N431+N432+N433+N434+N435+N436+N437+N438+N439+N440 -> 0
A441: 44 | B441: =IF('PL33'!B54="","",'PL33'!B54) | C441: =IF('PL33'!C54="","",'PL33'!C54) | P441: =N441+N442+N443+N444+N445+N446+N447+N448+N449+N450 -> 0
A451: 45 | B451: =IF('PL33'!B55="","",'PL33'!B55) | C451: =IF('PL33'!C55="","",'PL33'!C55) | P451: =N451+N452+N453+N454+N455+N456+N457+N458+N459+N460 -> 0
A461: 46 | B461: =IF('PL33'!B56="","",'PL33'!B56) | C461: =IF('PL33'!C56="","",'PL33'!C56) | P461: =N461+N462+N463+N464+N465+N466+N467+N468+N469+N470 -> 0
A471: 47 | B471: =IF('PL33'!B57="","",'PL33'!B57) | C471: =IF('PL33'!C57="","",'PL33'!C57) | P471: =N471+N472+N473+N474+N475+N476+N477+N478+N479+N480 -> 0
A481: 48 | B481: =IF('PL33'!B58="","",'PL33'!B58) | C481: =IF('PL33'!C58="","",'PL33'!C58) | P481: =N481+N482+N483+N484+N485+N486+N487+N488+N489+N490 -> 0
A491: 49 | B491: =IF('PL33'!B59="","",'PL33'!B59) | C491: =IF('PL33'!C59="","",'PL33'!C59) | P491: =N491+N492+N493+N494+N495+N496+N497+N498+N499+N500 -> 0
A501: 50 | B501: =IF('PL33'!B50="","",'PL33'!B50) | C501: =IF('PL33'!C50="","",'PL33'!C50) | P501: =N501+N502+N503+N504+N505+N506+N507+N508+N509+N510 -> 0
B511: Minh chứng nộp kèm: Biên bản họp có danh sách GV dự họp thực tế.
N512: TP.HCM, Ngày tháng năm 2018
C513: Hiệu trưởng | H513: Trưởng Khoa | N513: Người lập biểu

Sheet PL35
F1: Mẫu PL35
A2: UBND THÀNH PHỐ HỒ CHÍ MINH | D2: CỘNG HÒA XÃ HỘI CHỦ NGHĨA VIỆT NAM
A3: TRƯỜNG CAO ĐẲNG LÝ TỰ TRỌNG THÀNH PHỐ HỒ CHÍ MINH | D3: Độc lập - Tự do - Hạnh phúc
A5: BẢNG TỔNG HỢP DỰ GIỜ ĐỊNH KỲ, ĐỘT XUẤT
A6: NĂM HỌC 2017 - 2018
A7: KHOA: …………………….
A9: TT | B9: HỌ VÀ TÊN GIẢNG VIÊN | D9: Tổng số phiếu chấm dự giờ | E9: Tổng số giờ được tính | F9: Ghi chú
A10: (1) | B10: (2) | D10: (3) | E10: (4) | F10: (5)
A11: 1 | B11: =IF('PL33'!B11="","",'PL33'!B11) -> Ngô Hoàng | C11: =IF('PL33'!C11="","",'PL33'!C11) -> Anh | D11: 1 | E11: =D11*2 -> 2
A12: 2 | B12: =IF('PL33'!B12="","",'PL33'!B12) -> Châu Văn | C12: =IF('PL33'!C12="","",'PL33'!C12) -> Bảo | E12: =D12*2 -> 0
A13: 3 | B13: =IF('PL33'!B13="","",'PL33'!B13) -> Vũ Hạnh | C13: =IF('PL33'!C13="","",'PL33'!C13) -> Chiêu | E13: =D13*2 -> 0
A14: 4 | B14: =IF('PL33'!B14="","",'PL33'!B14) -> Ngô Phong | C14: =IF('PL33'!C14="","",'PL33'!C14) -> Cường | E14: =D14*2 -> 0
A15: 5 | B15: =IF('PL33'!B15="","",'PL33'!B15) -> Nguyễn Minh Đức | C15: =IF('PL33'!C15="","",'PL33'!C15) -> Cường | E15: =D15*2 -> 0
A16: 6 | B16: =IF('PL33'!B16="","",'PL33'!B16) -> Tạ Minh | C16: =IF('PL33'!C16="","",'PL33'!C16) -> Cường | E16: =D16*2 -> 0
A17: 7 | B17: =IF('PL33'!B17="","",'PL33'!B17) -> Võ | C17: =IF('PL33'!C17="","",'PL33'!C17) -> Cường | E17: =D17*2 -> 0
A18: 8 | B18: =IF('PL33'!B18="","",'PL33'!B18) -> Nguyễn Thùy | C18: =IF('PL33'!C18="","",'PL33'!C18) -> Dương | E18: =D18*2 -> 0
A19: 9 | B19: =IF('PL33'!B19="","",'PL33'!B19) -> Lê Tiến | C19: =IF('PL33'!C19="","",'PL33'!C19) -> Đạt | E19: =D19*2 -> 0
A20: 10 | B20: =IF('PL33'!B20="","",'PL33'!B20) -> Nguyễn Hồng | C20: =IF('PL33'!C20="","",'PL33'!C20) -> Đức | E20: =D20*2 -> 0
A21: 11 | B21: =IF('PL33'!B21="","",'PL33'!B21) -> Nguyễn Minh | C21: =IF('PL33'!C21="","",'PL33'!C21) -> Đức(A) | E21: =D21*2 -> 0
A22: 12 | B22: =IF('PL33'!B22="","",'PL33'!B22) -> Nguyễn Minh | C22: =IF('PL33'!C22="","",'PL33'!C22) -> Đức(B) | E22: =D22*2 -> 0
A23: 13 | B23: =IF('PL33'!B23="","",'PL33'!B23) -> Nguyễn Thị Ngọc | C23: =IF('PL33'!C23="","",'PL33'!C23) -> Hiền | E23: =D23*2 -> 0
... A60: 50 | B60: =IF('PL33'!B60="","",'PL33'!B60) | C60: =IF('PL33'!C60="","",'PL33'!C60) | E60: =D60*2 -> 0
B62: Minh chứng nộp kèm:
B63: - Phiếu dự giờ và sắp xếp theo số lượng GV đi dự.
E65: Tp.HCM, ngày tháng năm 2018
B66: Trưởng Khoa | E66: Người lập biểu

Sheet PL36
F1: Mẫu PL36
A2: UBND THÀNH PHỐ HỒ CHÍ MINH | D2: CỘNG HÒA XÃ HỘI CHỦ NGHĨA VIỆT NAM
A3: TRƯỜNG CAO ĐẲNG LÝ TỰ TRỌNG THÀNH PHỐ HỒ CHÍ MINH | D3: Độc lập - Tự do - Hạnh phúc
A5: BẢNG TỔNG HỢP HỌP GÓP Ý SAU DỰ GIỜ
A6: NĂM HỌC 2017 - 2018
A7: KHOA: …………………….
A9: TT | B9: HỌ VÀ TÊN GIẢNG VIÊN | D9: Họp góp ý cho bao nhiêu GV | E9: Tổng số giờ được tính | F9: Ghi chú
A10: (1) | B10: (2) | D10: (3) | E10: (4) | F10: (5)
A11: 1 | B11: =IF('PL33'!B11="","",'PL33'!B11) -> Ngô Hoàng | C11: =IF('PL33'!C11="","",'PL33'!C11) -> Anh | D11: 2 | E11: =D11*1 -> 2
A12: 2 | B12: =IF('PL33'!B12="","",'PL33'!B12) -> Châu Văn | C12: =IF('PL33'!C12="","",'PL33'!C12) -> Bảo | E12: =D12*1 -> 0
A13: 3 | B13: =IF('PL33'!B13="","",'PL33'!B13) -> Vũ Hạnh | C13: =IF('PL33'!C13="","",'PL33'!C13) -> Chiêu | E13: =D13*1 -> 0
A14: 4 | B14: =IF('PL33'!B14="","",'PL33'!B14) -> Ngô Phong | C14: =IF('PL33'!C14="","",'PL33'!C14) -> Cường | E14: =D14*1 -> 0
A15: 5 | B15: =IF('PL33'!B15="","",'PL33'!B15) -> Nguyễn Minh Đức | C15: =IF('PL33'!C15="","",'PL33'!C15) -> Cường | E15: =D15*1 -> 0
A16: 6 | B16: =IF('PL33'!B16="","",'PL33'!B16) -> Tạ Minh | C16: =IF('PL33'!C16="","",'PL33'!C16) -> Cường | E16: =D16*1 -> 0
A17: 7 | B17: =IF('PL33'!B17="","",'PL33'!B17) -> Võ | C17: =IF('PL33'!C17="","",'PL33'!C17) -> Cường | E17: =D17*1 -> 0
A18: 8 | B18: =IF('PL33'!B18="","",'PL33'!B18) -> Nguyễn Thùy | C18: =IF('PL33'!C18="","",'PL33'!C18) -> Dương | E18: =D18*1 -> 0
A19: 9 | B19: =IF('PL33'!B19="","",'PL33'!B19) -> Lê Tiến | C19: =IF('PL33'!C19="","",'PL33'!C19) -> Đạt | E19: =D19*1 -> 0
A20: 10 | B20: =IF('PL33'!B20="","",'PL33'!B20) -> Nguyễn Hồng | C20: =IF('PL33'!C20="","",'PL33'!C20) -> Đức | E20: =D20*1 -> 0
A21: 11 | B21: =IF('PL33'!B21="","",'PL33'!B21) -> Nguyễn Minh | C21: =IF('PL33'!C21="","",'PL33'!C21) -> Đức(A) | E21: =D21*1 -> 0
A22: 12 | B22: =IF('PL33'!B22="","",'PL33'!B22) -> Nguyễn Minh | C22: =IF('PL33'!C22="","",'PL33'!C22) -> Đức(B) | E22: =D22*1 -> 0
A23: 13 | B23: =IF('PL33'!B23="","",'PL33'!B23) -> Nguyễn Thị Ngọc | C23: =IF('PL33'!C23="","",'PL33'!C23) -> Hiền | E23: =D23*1 -> 0
... A60: 50 | B60: =IF('PL33'!B60="","",'PL33'!B60) | C60: =IF('PL33'!C60="","",'PL33'!C60) | E60: =D60*1 -> 0
B62: Minh chứng nộp kèm:
B63: - Biên bản họp góp ý có danh sách GV dự họp thực tế.
E65: Tp.HCM, ngày tháng năm 2018
B66: Trưởng Khoa | E66: Người lập biểu

Sheet PL37
I1: Mẫu PL37
A2: UBND THÀNH PHỐ HỒ CHÍ MINH | F2: CỘNG HÒA XÃ HỘI CHỦ NGHĨA VIỆT NAM
A3: TRƯỜNG CAO ĐẲNG LÝ TỰ TRỌNG THÀNH PHỐ HỒ CHÍ MINH | F3: Độc lập - Tự do - Hạnh phúc
A5: BẢNG TỔNG HỢP KIỂM TRA, CHẤM ĐIỂM HỒ SƠ CHUYÊN MÔN
A6: NĂM HỌC 2017 - 2018
A7: KHOA: …………………….
A9: TT | B9: HỌ VÀ TÊN GIẢNG VIÊN | D9: Tổ bộ môn được phân công kiểm tra, chấm điểm | E9: Số GV trong tổ kiểm tra, chấm điểm | F9: Số GV được kiểm tra, chấm điểm của tổ | G9: Số giờ được tính | H9: Tổng số giờ được tính | I9: Ghi chú
A10: (1) | B10: (2) | D10: (3) | E10: (4) | F10: (5) | G10: (6) | H10: (7) | I10: (8)
A11: 1 | B11: =IF('PL33'!B11="","",'PL33'!B11) -> Ngô Hoàng | C11: =IF('PL33'!C11="","",'PL33'!C11) -> Anh | D11: ĐỘNG CƠ | E11: 3 | F11: 2 | G11: =IF(OR(E11="",F11=""),0,ROUND((F11*4)/E11,1)) -> 2.7 | H11: =SUM(G11:G16) -> 2.7
D12: GẦM | G12: =IF(OR(E12="",F12=""),0,ROUND((F12*4)/E12,1)) -> 0
G13: =IF(OR(E13="",F13=""),0,ROUND((F13*4)/E13,1)) -> 0
G14: =IF(OR(E14="",F14=""),0,ROUND((F14*4)/E14,1)) -> 0
G15: =IF(OR(E15="",F15=""),0,ROUND((F15*4)/E15,1)) -> 0
G16: =IF(OR(E16="",F16=""),0,ROUND((F16*4)/E16,1)) -> 0
A17: 2 | B17: =IF('PL33'!B12="","",'PL33'!B12) -> Châu Văn | C17: =IF('PL33'!C12="","",'PL33'!C12) -> Bảo | E17: 3 | F17: 2 | G17: =IF(OR(E17="",F17=""),0,ROUND((F17*4)/E17,1)) -> 2.7 | H17: =SUM(G17:G22) -> 2.7
G18: =IF(OR(E18="",F18=""),0,ROUND((F18*4)/E18,1)) -> 0
G19: =IF(OR(E19="",F19=""),0,ROUND((F19*4)/E19,1)) -> 0
G20: =IF(OR(E20="",F20=""),0,ROUND((F20*4)/E20,1)) -> 0
G21: =IF(OR(E21="",F21=""),0,ROUND((F21*4)/E21,1)) -> 0
G22: =IF(OR(E22="",F22=""),0,ROUND((F22*4)/E22,1)) -> 0
A23: 3 | B23: =IF('PL33'!B13="","",'PL33'!B13) -> Vũ Hạnh | C23: =IF('PL33'!C13="","",'PL33'!C13) -> Chiêu | E23: 3 | F23: 2 | G23: =IF(OR(E23="",F23=""),0,ROUND((F23*4)/E23,1)) -> 2.7 | H23: =SUM(G23:G28) -> 2.7
G24: =IF(OR(E24="",F24=""),0,ROUND((F24*4)/E24,1)) -> 0
G25: =IF(OR(E25="",F25=""),0,ROUND((F25*4)/E25,1)) -> 0
G26: =IF(OR(E26="",F26=""),0,ROUND((F26*4)/E26,1)) -> 0
G27: =IF(OR(E27="",F27=""),0,ROUND((F27*4)/E27,1)) -> 0
G28: =IF(OR(E28="",F28=""),0,ROUND((F28*4)/E28,1)) -> 0
A29: 4 | B29: =IF('PL33'!B14="","",'PL33'!B14) -> Ngô Phong | C29: =IF('PL33'!C14="","",'PL33'!C14) -> Cường | G29: =IF(OR(E29="",F29=""),0,ROUND((F29*4)/E29,1)) -> 0 | H29: =SUM(G29:G34) -> 0
G30: =IF(OR(E30="",F30=""),0,ROUND((F30*4)/E30,1)) -> 0
G31: =IF(OR(E31="",F31=""),0,ROUND((F31*4)/E31,1)) -> 0
G32: =IF(OR(E32="",F32=""),0,ROUND((F32*4)/E32,1)) -> 0
G33: =IF(OR(E33="",F33=""),0,ROUND((F33*4)/E33,1)) -> 0
G34: =IF(OR(E34="",F34=""),0,ROUND((F34*4)/E34,1)) -> 0
A35: 5 | B35: =IF('PL33'!B15="","",'PL33'!B15) -> Nguyễn Minh Đức | C35: =IF('PL33'!C15="","",'PL33'!C15) -> Cường | G35: =IF(OR(E35="",F35=""),0,ROUND((F35*4)/E35,1)) -> 0 | H35: =SUM(G35:G40) -> 0
G36: =IF(OR(E36="",F36=""),0,ROUND((F36*4)/E36,1)) -> 0
G37: =IF(OR(E37="",F37=""),0,ROUND((F37*4)/E37,1)) -> 0
G38: =IF(OR(E38="",F38=""),0,ROUND((F38*4)/E38,1)) -> 0
G39: =IF(OR(E39="",F39=""),0,ROUND((F39*4)/E39,1)) -> 0
G40: =IF(OR(E40="",F40=""),0,ROUND((F40*4)/E40,1)) -> 0
A41: 6 | B41: =IF('PL33'!B16="","",'PL33'!B16) -> Tạ Minh | C41: =IF('PL33'!C16="","",'PL33'!C16) -> Cường | G41: =IF(OR(E41="",F41=""),0,ROUND((F41*4)/E41,1)) -> 0 | H41: =SUM(G41:G46) -> 0
G42: =IF(OR(E42="",F42=""),0,ROUND((F42*4)/E42,1)) -> 0
G43: =IF(OR(E43="",F43=""),0,ROUND((F43*4)/E43,1)) -> 0
G44: =IF(OR(E44="",F44=""),0,ROUND((F44*4)/E44,1)) -> 0
G45: =IF(OR(E45="",F45=""),0,ROUND((F45*4)/E45,1)) -> 0
G46: =IF(OR(E46="",F46=""),0,ROUND((F46*4)/E46,1)) -> 0
A47: 7 | B47: =IF('PL33'!B17="","",'PL33'!B17) -> Võ | C47: =IF('PL33'!C17="","",'PL33'!C17) -> Cường | G47: =IF(OR(E47="",F47=""),0,ROUND((F47*4)/E47,1)) -> 0 | H47: =SUM(G47:G52) -> 0
G48: =IF(OR(E48="",F48=""),0,ROUND((F48*4)/E48,1)) -> 0
G49: =IF(OR(E49="",F49=""),0,ROUND((F49*4)/E49,1)) -> 0
G50: =IF(OR(E50="",F50=""),0,ROUND((F50*4)/E50,1)) -> 0
G51: =IF(OR(E51="",F51=""),0,ROUND((F51*4)/E51,1)) -> 0
G52: =IF(OR(E52="",F52=""),0,ROUND((F52*4)/E52,1)) -> 0
A53: 8 | B53: =IF('PL33'!B18="","",'PL33'!B18) -> Nguyễn Thùy | C53: =IF('PL33'!C18="","",'PL33'!C18) -> Dương | G53: =IF(OR(E53="",F53=""),0,ROUND((F53*4)/E53,1)) -> 0 | H53: =SUM(G53:G58) -> 0
G54: =IF(OR(E54="",F54=""),0,ROUND((F54*4)/E54,1)) -> 0
G55: =IF(OR(E55="",F55=""),0,ROUND((F55*4)/E55,1)) -> 0
G56: =IF(OR(E56="",F56=""),0,ROUND((F56*4)/E56,1)) -> 0
G57: =IF(OR(E57="",F57=""),0,ROUND((F57*4)/E57,1)) -> 0
G58: =IF(OR(E58="",F58=""),0,ROUND((F58*4)/E58,1)) -> 0
A59: 9 | B59: =IF('PL33'!B19="","",'PL33'!B19) -> Lê Tiến | C59: =IF('PL33'!C19="","",'PL33'!C19) -> Đạt | G59: =IF(OR(E59="",F59=""),0,ROUND((F59*4)/E59,1)) -> 0 | H59: =SUM(G59:G64) -> 0
G60: =IF(OR(E60="",F60=""),0,ROUND((F60*4)/E60,1)) -> 0
G61: =IF(OR(E61="",F61=""),0,ROUND((F61*4)/E61,1)) -> 0
G62: =IF(OR(E62="",F62=""),0,ROUND((F62*4)/E62,1)) -> 0
G63: =IF(OR(E63="",F63=""),0,ROUND((F63*4)/E63,1)) -> 0
G64: =IF(OR(E64="",F64=""),0,ROUND((F64*4)/E64,1)) -> 0
A65: 10 | B65: =IF('PL33'!B20="","",'PL33'!B20) -> Nguyễn Hồng | C65: =IF('PL33'!C20="","",'PL33'!C20) -> Đức | G65: =IF(OR(E65="",F65=""),0,ROUND((F65*4)/E65,1)) -> 0 | H65: =SUM(G65:G70) -> 0
G66: =IF(OR(E66="",F66=""),0,ROUND((F66*4)/E66,1)) -> 0
G67: =IF(OR(E67="",F67=""),0,ROUND((F67*4)/E67,1)) -> 0
G68: =IF(OR(E68="",F68=""),0,ROUND((F68*4)/E68,1)) -> 0
G69: =IF(OR(E69="",F69=""),0,ROUND((F69*4)/E69,1)) -> 0
G70: =IF(OR(E70="",F70=""),0,ROUND((F70*4)/E70,1)) -> 0
A71: 11 | B71: =IF('PL33'!B21="","",'PL33'!B21) -> Nguyễn Minh | C71: =IF('PL33'!C21="","",'PL33'!C21) -> Đức(A) | G71: =IF(OR(E71="",F71=""),0,ROUND((F71*4)/E71,1)) -> 0 | H71: =SUM(G71:G76) -> 0
G72: =IF(OR(E72="",F72=""),0,ROUND((F72*4)/E72,1)) -> 0
G73: =IF(OR(E73="",F73=""),0,ROUND((F73*4)/E73,1)) -> 0
G74: =IF(OR(E74="",F74=""),0,ROUND((F74*4)/E74,1)) -> 0
G75: =IF(OR(E75="",F75=""),0,ROUND((F75*4)/E75,1)) -> 0
G76: =IF(OR(E76="",F76=""),0,ROUND((F76*4)/E76,1)) -> 0
A77: 12 | B77: =IF('PL33'!B22="","",'PL33'!B22) -> Nguyễn Minh | C77: =IF('PL33'!C22="","",'PL33'!C22) -> Đức(B) | G77: =IF(OR(E77="",F77=""),0,ROUND((F77*4)/E77,1)) -> 0 | H77: =SUM(G77:G82) -> 0
G78: =IF(OR(E78="",F78=""),0,ROUND((F78*4)/E78,1)) -> 0
G79: =IF(OR(E79="",F79=""),0,ROUND((F79*4)/E79,1)) -> 0
G80: =IF(OR(E80="",F80=""),0,ROUND((F80*4)/E80,1)) -> 0
G81: =IF(OR(E81="",F81=""),0,ROUND((F81*4)/E81,1)) -> 0
G82: =IF(OR(E82="",F82=""),0,ROUND((F82*4)/E82,1)) -> 0
A83: 13 | B83: =IF('PL33'!B23="","",'PL33'!B23) -> Nguyễn Thị Ngọc | C83: =IF('PL33'!C23="","",'PL33'!C23) -> Hiền | G83: =IF(OR(E83="",F83=""),0,ROUND((F83*4)/E83,1)) -> 0 | H83: =SUM(G83:G88) -> 0
G84: =IF(OR(E84="",F84=""),0,ROUND((F84*4)/E84,1)) -> 0
G85: =IF(OR(E85="",F85=""),0,ROUND((F85*4)/E85,1)) -> 0
G86: =IF(OR(E86="",F86=""),0,ROUND((F86*4)/E86,1)) -> 0
G87: =IF(OR(E87="",F87=""),0,ROUND((F87*4)/E87,1)) -> 0
G88: =IF(OR(E88="",F88=""),0,ROUND((F88*4)/E88,1)) -> 0
A89: 14 | B89: =IF('PL33'!B24="","",'PL33'!B24) -> Trần Trung | C89: =IF('PL33'!C24="","",'PL33'!C24) -> Hiếu | G89: =IF(OR(E89="",F89=""),0,ROUND((F89*4)/E89,1)) -> 0 | H89: =SUM(G89:G94) -> 0
G90: =IF(OR(E90="",F90=""),0,ROUND((F90*4)/E90,1)) -> 0
G91: =IF(OR(E91="",F91=""),0,ROUND((F91*4)/E91,1)) -> 0
G92: =IF(OR(E92="",F92=""),0,ROUND((F92*4)/E92,1)) -> 0
G93: =IF(OR(E93="",F93=""),0,ROUND((F93*4)/E93,1)) -> 0
G94: =IF(OR(E94="",F94=""),0,ROUND((F94*4)/E94,1)) -> 0
A95: 15 | B95: =IF('PL33'!B25="","",'PL33'!B25) -> Mạnh Lê | C95: =IF('PL33'!C25="","",'PL33'!C25) -> Hoàn | G95: =IF(OR(E95="",F95=""),0,ROUND((F95*4)/E95,1)) -> 0 | H95: =SUM(G95:G100) -> 0
G96: =IF(OR(E96="",F96=""),0,ROUND((F96*4)/E96,1)) -> 0
G97: =IF(OR(E97="",F97=""),0,ROUND((F97*4)/E97,1)) -> 0
G98: =IF(OR(E98="",F98=""),0,ROUND((F98*4)/E98,1)) -> 0
G99: =IF(OR(E99="",F99=""),0,ROUND((F99*4)/E99,1)) -> 0
G100: =IF(OR(E100="",F100=""),0,ROUND((F100*4)/E100,1)) -> 0
A101: 16 | B101: =IF('PL33'!B26="","",'PL33'!B26) -> Lê Thế | C101: =IF('PL33'!C26="","",'PL33'!C26) -> Huân | G101: =IF(OR(E101="",F101=""),0,ROUND((F101*4)/E101,1)) -> 0 | H101: =SUM(G101:G106) -> 0
G102: =IF(OR(E102="",F102=""),0,ROUND((F102*4)/E102,1)) -> 0
...

Sheet Mau PL
K1: Mẫu PL
A2: UBND THÀNH PHỐ HỒ CHÍ MINH | G2: CỘNG HÒA XÃ HỘI CHỦ NGHĨA VIỆT NAM
A3: TRƯỜNG CAO ĐẲNG LÝ TỰ TRỌNG THÀNH PHỐ HỒ CHÍ MINH | G3: Độc lập - Tự do - Hạnh phúc
A5: BẢNG TỔNG HỢP KHỐI LƯỢNG NGHIÊN CỨU KHOA HỌC CỦA GIẢNG VIÊN (SỐ THỨ TỰ 33 --> 37 TRONG PHỤ LỤC ĐÍNH KÈM QUY ĐỊNH 1295 )
A6: NĂM HỌC 2017 - 2018
A7: KHOA : ……………………………………………………………………………………...
A9: TT | B9: Họ và tên GV | D9: PL 33 | E9: PL 34 | F9: PL 35 | G9: PL 36 | H9: PL 37 | I9: Tổng số giờ | J9: Tổng số tiết quy đổi | K9: Ghi chú
A10: (1) | B10: (2) | D10: (3) | E10: (4) | F10: (5) | G10: (6) | H10: (7) | I10: (8) | J10: (9) | K10: (10)
A11: 1 | B11: =IF('PL33'!B11="","",'PL33'!B11) -> Ngô Hoàng | C11: =IF('PL33'!C11="","",'PL33'!C11) -> Anh | D11: ='PL33'!I11 -> 8 | E11: =IF(('PL34.1'!AZ11+SUM('PL34.2'!P11:P20))>50,50,'PL34.1'!AZ11+SUM('PL34.2'!P11:P20)) -> 50 | F11: ='PL35'!E11 -> 2 | G11: ='PL36'!E11 -> 2 | H11: =SUM('PL37'!H11:H16) -> 2.7 | I11: =SUM(D11:H11) -> 64.7 | J11: =ROUND(I11/2.85,1) -> 22.7
A12: 2 | B12: =IF('PL33'!B12="","",'PL33'!B12) -> Châu Văn | C12: =IF('PL33'!C12="","",'PL33'!C12) -> Bảo | D12: ='PL33'!I12 -> 0 | E12: =IF(('PL34.1'!AZ12+SUM('PL34.2'!P21:P30))>50,50,'PL34.1'!AZ12+SUM('PL34.2'!P21:P30)) -> 24 | F12: ='PL35'!E12 -> 0 | G12: ='PL36'!E12 -> 0 | H12: =SUM('PL37'!H17:H22) -> 2.7 | I12: =SUM(D12:H12) -> 26.7 | J12: =ROUND(I12/2.85,1) -> 9.4
A13: 3 | B13: =IF('PL33'!B13="","",'PL33'!B13) -> Vũ Hạnh | C13: =IF('PL33'!C13="","",'PL33'!C13) -> Chiêu | D13: ='PL33'!I13 -> 0 | E13: =IF(('PL34.1'!AZ13+SUM('PL34.2'!P31:P40))>50,50,'PL34.1'!AZ13+SUM('PL34.2'!P31:P40)) -> 40 | F13: ='PL35'!E13 -> 0 | G13: ='PL36'!E13 -> 0 | H13: =SUM('PL37'!H23:H28) -> 2.7 | I13: =SUM(D13:H13) -> 42.7 | J13: =ROUND(I13/2.85,1) -> 15
A14: 4 | B14: =IF('PL33'!B14="","",'PL33'!B14) -> Ngô Phong | C14: =IF('PL33'!C14="","",'PL33'!C14) -> Cường | D14: ='PL33'!I14 -> 0 | E14: =IF(('PL34.1'!AZ14+SUM('PL34.2'!P41:P50))>50,50,'PL34.1'!AZ14+SUM('PL34.2'!P41:P50)) -> 0 | F14: ='PL35'!E14 -> 0 | G14: ='PL36'!E14 -> 0 | H14: =SUM('PL37'!H29:H34) -> 0 | I14: =SUM(D14:H14) -> 0 | J14: =ROUND(I14/2.85,1) -> 0
A15: 5 | B15: =IF('PL33'!B15="","",'PL33'!B15) -> Nguyễn Minh Đức | C15: =IF('PL33'!C15="","",'PL33'!C15) -> Cường | D15: ='PL33'!I15 -> 0 | E15: =IF(('PL34.1'!AZ15+SUM('PL34.2'!P51:P60))>50,50,'PL34.1'!AZ15+SUM('PL34.2'!P51:P60)) -> 0 | F15: ='PL35'!E15 -> 0 | G15: ='PL36'!E15 -> 0 | H15: =SUM('PL37'!H35:H40) -> 0 | I15: =SUM(D15:H15) -> 0 | J15: =ROUND(I15/2.85,1) -> 0
A16: 6 | B16: =IF('PL33'!B16="","",'PL33'!B16) -> Tạ Minh | C16: =IF('PL33'!C16="","",'PL33'!C16) -> Cường | D16: ='PL33'!I16 -> 0 | E16: =IF(('PL34.1'!AZ16+SUM('PL34.2'!P61:P70))>50,50,'PL34.1'!AZ16+SUM('PL34.2'!P61:P70)) -> 0 | F16: ='PL35'!E16 -> 0 | G16: ='PL36'!E16 -> 0 | H16: =SUM('PL37'!H41:H46) -> 0 | I16: =SUM(D16:H16) -> 0 | J16: =ROUND(I16/2.85,1) -> 0
A17: 7 | B17: =IF('PL33'!B17="","",'PL33'!B17) -> Võ | C17: =IF('PL33'!C17="","",'PL33'!C17) -> Cường | D17: ='PL33'!I17 -> 0 | E17: =IF(('PL34.1'!AZ17+SUM('PL34.2'!P71:P80))>50,50,'PL34.1'!AZ17+SUM('PL34.2'!P71:P80)) -> 0 | F17: ='PL35'!E17 -> 0 | G17: ='PL36'!E17 -> 0 | H17: =SUM('PL37'!H47:H52) -> 0 | I17: =SUM(D17:H17) -> 0 | J17: =ROUND(I17/2.85,1) -> 0
A18: 8 | B18: =IF('PL33'!B18="","",'PL33'!B18) -> Nguyễn Thùy | C18: =IF('PL33'!C18="","",'PL33'!C18) -> Dương | D18: ='PL33'!I18 -> 0 | E18: =IF(('PL34.1'!AZ18+SUM('PL34.2'!P81:P90))>50,50,'PL34.1'!AZ18+SUM('PL34.2'!P81:P90)) -> 0 | F18: ='PL35'!E18 -> 0 | G18: ='PL36'!E18 -> 0 | H18: =SUM('PL37'!H53:H58) -> 0 | I18: =SUM(D18:H18) -> 0 | J18: =ROUND(I18/2.85,1) -> 0
A19: 9 | B19: =IF('PL33'!B19="","",'PL33'!B19) -> Lê Tiến | C19: =IF('PL33'!C19="","",'PL33'!C19) -> Đạt | D19: ='PL33'!I19 -> 0 | E19: =IF(('PL34.1'!AZ19+SUM('PL34.2'!P91:P100))>50,50,'PL34.1'!AZ19+SUM('PL34.2'!P91:P100)) -> 0 | F19: ='PL35'!E19 -> 0 | G19: ='PL36'!E19 -> 0 | H19: =SUM('PL37'!H59:H64) -> 0 | I19: =SUM(D19:H19) -> 0 | J19: =ROUND(I19/2.85,1) -> 0
A20: 10 | B20: =IF('PL33'!B20="","",'PL33'!B20) -> Nguyễn Hồng | C20: =IF('PL33'!C20="","",'PL33'!C20) -> Đức | D20: ='PL33'!I20 -> 0 | E20: =IF(('PL34.1'!AZ20+SUM('PL34.2'!P101:P110))>50,50,'PL34.1'!AZ20+SUM('PL34.2'!P101:P110)) -> 0 | F20: ='PL35'!E20 -> 0 | G20: ='PL36'!E20 -> 0 | H20: =SUM('PL37'!H65:H70) -> 0 | I20: =SUM(D20:H20) -> 0 | J20: =ROUND(I20/2.85,1) -> 0
A21: 11 | B21: =IF('PL33'!B21="","",'PL33'!B21) -> Nguyễn Minh | C21: =IF('PL33'!C21="","",'PL33'!C21) -> Đức(A) | D21: ='PL33'!I21 -> 0 | E21: =IF(('PL34.1'!AZ21+SUM('PL34.2'!P111:P120))>50,50,'PL34.1'!AZ21+SUM('PL34.2'!P111:P120)) -> 0 | F21: ='PL35'!E21 -> 0 | G21: ='PL36'!E21 -> 0 | H21: =SUM('PL37'!H71:H76) -> 0 | I21: =SUM(D21:H21) -> 0 | J21: =ROUND(I21/2.85,1) -> 0
A22: 12 | B22: =IF('PL33'!B22="","",'PL33'!B22) -> Nguyễn Minh | C22: =IF('PL33'!C22="","",'PL33'!C22) -> Đức(B) | D22: ='PL33'!I22 -> 0 | E22: =IF(('PL34.1'!AZ22+SUM('PL34.2'!P121:P130))>50,50,'PL34.1'!AZ22+SUM('PL34.2'!P121:P130)) -> 0 | F22: ='PL35'!E22 -> 0 | G22: ='PL36'!E22 -> 0 | H22: =SUM('PL37'!H77:H82) -> 0 | I22: =SUM(D22:H22) -> 0 | J22: =ROUND(I22/2.85,1) -> 0
A23: 13 | B23: =IF('PL33'!B23="","",'PL33'!B23) -> Nguyễn Thị Ngọc | C23: =IF('PL33'!C23="","",'PL33'!C23) -> Hiền | D23: ='PL33'!I23 -> 0 | E23: =IF(('PL34.1'!AZ23+SUM('PL34.2'!P131:P140))>50,50,'PL34.1'!AZ23+SUM('PL34.2'!P131:P140)) -> 0 | F23: ='PL35'!E23 -> 0 | G23: ='PL36'!E23 -> 0 | H23: =SUM('PL37'!H83:H88) -> 0 | I23: =SUM(D23:H23) -> 0 | J23: =ROUND(I23/2.85,1) -> 0
A24: 14 | B24: =IF('PL33'!B24="","",'PL33'!B24) -> Trần Trung | C24: =IF('PL33'!C24="","",'PL33'!C24) -> Hiếu | D24: ='PL33'!I24 -> 0 | E24: =IF(('PL34.1'!AZ24+SUM('PL34.2'!P141:P150))>50,50,'PL34.1'!AZ24+SUM('PL34.2'!P141:P150)) -> 0 | F24: ='PL35'!E24 -> 0 | G24: ='PL36'!E24 -> 0 | H24: =SUM('PL37'!H89:H94) -> 0 | I24: =SUM(D24:H24) -> 0 | J24: =ROUND(I24/2.85,1) -> 0
A25: 15 | B25: =IF('PL33'!B25="","",'PL33'!B25) -> Mạnh Lê | C25: =IF('PL33'!C25="","",'PL33'!C25) -> Hoàn | D25: ='PL33'!I25 -> 0 | E25: =IF(('PL34.1'!AZ25+SUM('PL34.2'!P151:P160))>50,50,'PL34.1'!AZ25+SUM('PL34.2'!P151:P160)) -> 0 | F25: ='PL35'!E25 -> 0 | G25: ='PL36'!E25 -> 0 | H25: =SUM('PL37'!H95:H100) -> 0 | I25: =SUM(D25:H25) -> 0 | J25: =ROUND(I25/2.85,1) -> 0
A26: 16 | B26: =IF('PL33'!B26="","",'PL33'!B26) -> Lê Thế | C26: =IF('PL33'!C26="","",'PL33'!C26) -> Huân | D26: ='PL33'!I26 -> 0 | E26: =IF(('PL34.1'!AZ26+SUM('PL34.2'!P161:P170))>50,50,'PL34.1'!AZ26+SUM('PL34.2'!P161:P170)) -> 0 | F26: ='PL35'!E26 -> 0 | G26: ='PL36'!E26 -> 0 | H26: =SUM('PL37'!H101:H106) -> 0 | I26: =SUM(D26:H26) -> 0 | J26: =ROUND(I26/2.85,1) -> 0
A27: 17 | B27: =IF('PL33'!B27="","",'PL33'!B27) -> Tăng Cẩm | C27: =IF('PL33'!C27="","",'PL33'!C27) -> Huê | D27: ='PL33'!I27 -> 0 | E27: =IF(('PL34.1'!AZ27+SUM('PL34.2'!P171:P180))>50,50,'PL34.1'!AZ27+SUM('PL34.2'!P171:P180)) -> 0 | F27: ='PL35'!E27 -> 0 | G27: ='PL36'!E27 -> 0 | H27: =SUM('PL37'!H107:H112) -> 0 | I27: =SUM(D27:H27) -> 0 | J27: =ROUND(I27/2.85,1) -> 0
A28: 18 | B28: =IF('PL33'!B28="","",'PL33'!B28) -> Nguyễn Thùy | C28: =IF('PL33'!C28="","",'PL33'!C28) -> Linh | D28: ='PL33'!I28 -> 0 | E28: =IF(('PL34.1'!AZ28+SUM('PL34.2'!P181:P190))>50,50,'PL34.1'!AZ28+SUM('PL34.2'!P181:P190)) -> 0 | F28: ='PL35'!E28 -> 0 | G28: ='PL36'!E28 -> 0 | H28: =SUM('PL37'!H113:H118) -> 0 | I28: =SUM(D28:H28) -> 0 | J28: =ROUND(I28/2.85,1) -> 0
A29: 19 | B29: =IF('PL33'!B29="","",'PL33'!B29) -> Huỳnh Ngọc | C29: =IF('PL33'!C29="","",'PL33'!C29) -> Mai | D29: ='PL33'!I29 -> 0 | E29: =IF(('PL34.1'!AZ29+SUM('PL34.2'!P191:P200))>50,50,'PL34.1'!AZ29+SUM('PL34.2'!P191:P200)) -> 0 | F29: ='PL35'!E29 -> 0 | G29: ='PL36'!E29 -> 0 | H29: =SUM('PL37'!H119:H124) -> 0 | I29: =SUM(D29:H29) -> 0 | J29: =ROUND(I29/2.85,1) -> 0
A30: 20 | B30: =IF('PL33'!B30="","",'PL33'!B30) -> Đặng Đức | C30: =IF('PL33'!C30="","",'PL33'!C30) -> Minh | D30: ='PL33'!I30 -> 0 | E30: =IF(('PL34.1'!AZ30+SUM('PL34.2'!P201:P210))>50,50,'PL34.1'!AZ30+SUM('PL34.2'!P201:P210)) -> 0 | F30: ='PL35'!E30 -> 0 | G30: ='PL36'!E30 -> 0 | H30: =SUM('PL37'!H125:H130) -> 0 | I30: =SUM(D30:H30) -> 0 | J30: =ROUND(I30/2.85,1) -> 0
A31: 21 | B31: =IF('PL33'!B31="","",'PL33'!B31) -> Nguyễn Thị Tố | C31: =IF('PL33'!C31="","",'PL33'!C31) -> Nga | D31: ='PL33'!I31 -> 0 | E31: =IF(('PL34.1'!AZ31+SUM('PL34.2'!P211:P220))>50,50,'PL34.1'!AZ31+SUM('PL34.2'!P211:P220)) -> 0 | F31: ='PL35'!E31 -> 0 | G31: ='PL36'!E31 -> 0 | H31: =SUM('PL37'!H131:H136) -> 0 | I31: =SUM(D31:H31) -> 0 | J31: =ROUND(I31/2.85,1) -> 0
A32: 22 | B32: =IF('PL33'!B32="","",'PL33'!B32) -> Nguyễn Trần Thanh | C32: =IF('PL33'!C32="","",'PL33'!C32) -> Nhàn | D32: ='PL33'!I32 -> 0 | E32: =IF(('PL34.1'!AZ32+SUM('PL34.2'!P221:P230))>50,50,'PL34.1'!AZ32+SUM('PL34.2'!P221:P230)) -> 0 | F32: ='PL35'!E32 -> 0 | G32: ='PL36'!E32 -> 0 | H32: =SUM('PL37'!H137:H142) -> 0 | I32: =SUM(D32:H32) -> 0 | J32: =ROUND(I32/2.85,1) -> 0
A33: 23 | B33: =IF('PL33'!B33="","",'PL33'!B33) -> Đỗ Huỳnh Thanh | C33: =IF('PL33'!C33="","",'PL33'!C33) -> Phong | D33: ='PL33'!I33 -> 0 | E33: =IF(('PL34.1'!AZ33+SUM('PL34.2'!P231:P240))>50,50,'PL34.1'!AZ33+SUM('PL34.2'!P231:P240)) -> 0 | F33: ='PL35'!E33 -> 0 | G33: ='PL36'!E33 -> 0 | H33: =SUM('PL37'!H143:H148) -> 0 | I33: =SUM(D33:H33) -> 0 | J33: =ROUND(I33/2.85,1) -> 0
A34: 24 | B34: =IF('PL33'!B34="","",'PL33'!B34) -> Nguyễn Anh | C34: =IF('PL33'!C34="","",'PL33'!C34) -> Tăng | D34: ='PL33'!I34 -> 0 | E34: =IF(('PL34.1'!AZ34+SUM('PL34.2'!P241:P250))>50,50,'PL34.1'!AZ34+SUM('PL34.2'!P241:P250)) -> 0 | F34: ='PL35'!E34 -> 0 | G34: ='PL36'!E34 -> 0 | H34: =SUM('PL37'!H149:H154) -> 0 | I34: =SUM(D34:H34) -> 0 | J34: =ROUND(I34/2.85,1) -> 0
A35: 25 | B35: =IF('PL33'!B35="","",'PL33'!B35) -> Quách Minh | C35: =IF('PL33'!C35="","",'PL33'!C35) -> Thử | D35: ='PL33'!I35 -> 0 | E35: =IF(('PL34.1'!AZ35+SUM('PL34.2'!P251:P260))>50,50,'PL34.1'!AZ35+SUM('PL34.2'!P251:P260)) -> 0 | F35: ='PL35'!E35 -> 0 | G35: ='PL36'!E35 -> 0 | H35: =SUM('PL37'!H155:H160) -> 0 | I35: =SUM(D35:H35) -> 0 | J35: =ROUND(I35/2.85,1) -> 0
A36: 26 | B36: =IF('PL33'!B36="","",'PL33'!B36) -> Trần Công | C36: =IF('PL33'!C36="","",'PL33'!C36) -> Tiến | D36: ='PL33'!I36 -> 0 | E36: =IF(('PL34.1'!AZ36+SUM('PL34.2'!P261:P270))>50,50,'PL34.1'!AZ36+SUM('PL34.2'!P261:P270)) -> 0 | F36: ='PL35'!E36 -> 0 | G36: ='PL36'!E36 -> 0 | H36: =SUM('PL37'!H161:H166) -> 0 | I36: =SUM(D36:H36) -> 0 | J36: =ROUND(I36/2.85,1) -> 0
A37: 27 | B37: =IF('PL33'!B37="","",'PL33'!B37) -> Bốc Minh | C37: =IF('PL33'!C37="","",'PL33'!C37) -> Trí | D37: ='PL33'!I37 -> 0 | E37: =IF(('PL34.1'!AZ37+SUM('PL34.2'!P271:P280))>50,50,'PL34.1'!AZ37+SUM('PL34.2'!P271:P280)) -> 0 | F37: ='PL35'!E37 -> 0 | G37: ='PL36'!E37 -> 0 | H37: =SUM('PL37'!H167:H172) -> 0 | I37: =SUM(D37:H37) -> 0 | J37: =ROUND(I37/2.85,1) -> 0
A38: 28 | B38: =IF('PL33'!B38="","",'PL33'!B38) -> Trần Hiếu | C38: =IF('PL33'!C38="","",'PL33'!C38) -> Trinh | D38: ='PL33'!I38 -> 0 | E38: =IF(('PL34.1'!AZ38+SUM('PL34.2'!P281:P290))>50,50,'PL34.1'!AZ38+SUM('PL34.2'!P281:P290)) -> 0 | F38: ='PL35'!E38 -> 0 | G38: ='PL36'!E38 -> 0 | H38: =SUM('PL37'!H173:H178) -> 0 | I38: =SUM(D38:H38) -> 0 | J38: =ROUND(I38/2.85,1) -> 0
A39: 29 | B39: =IF('PL33'!B39="","",'PL33'!B39) -> Trần Nguyên Bảo | C39: =IF('PL33'!C39="","",'PL33'!C39) -> Trân | D39: ='PL33'!I39 -> 0 | E39: =IF(('PL34.1'!AZ39+SUM('PL34.2'!P291:P300))>50,50,'PL34.1'!AZ39+SUM('PL34.2'!P291:P300)) -> 0 | F39: ='PL35'!E39 -> 0 | G39: ='PL36'!E39 -> 0 | H39: =SUM('PL37'!H179:H184) -> 0 | I39: =SUM(D39:H39) -> 0 | J39: =ROUND(I39/2.85,1) -> 0
A40: 30 | B40: =IF('PL33'!B40="","",'PL33'!B40) -> Nguyễn Văn | C40: =IF('PL33'!C40="","",'PL33'!C40) -> Yên | D40: ='PL33'!I40 -> 0 | E40: =IF(('PL34.1'!AZ40+SUM('PL34.2'!P301:P310))>50,50,'PL34.1'!AZ40+SUM('PL34.2'!P301:P310)) -> 0 | F40: ='PL35'!E40 -> 0 | G40: ='PL36'!E40 -> 0 | H40: =SUM('PL37'!H185:H190) -> 0 | I40: =SUM(D40:H40) -> 0 | J40: =ROUND(I40/2.85,1) -> 0
A41: 31 | B41: =IF('PL33'!B41="","",'PL33'!B41) -> Trần Nam | C41: =IF('PL33'!C41="","",'PL33'!C41) -> Anh | D41: ='PL33'!I41 -> 0 | E41: =IF(('PL34.1'!AZ41+SUM('PL34.2'!P311:P320))>50,50,'PL34.1'!AZ41+SUM('PL34.2'!P311:P320)) -> 0 | F41: ='PL35'!E41 -> 0 | G41: ='PL36'!E41 -> 0 | H41: =SUM('PL37'!H191:H196) -> 0 | I41: =SUM(D41:H41) -> 0 | J41: =ROUND(I41/2.85,1) -> 0
A42: 32 | B42: =IF('PL33'!B42="","",'PL33'!B42) -> Cao Văn | C42: =IF('PL33'!C42="","",'PL33'!C42) -> Tuấn | D42: ='PL33'!I42 -> 0 | E42: =IF(('PL34.1'!AZ42+SUM('PL34.2'!P321:P330))>50,50,'PL34.1'!AZ42+SUM('PL34.2'!P321:P330)) -> 0 | F42: ='PL35'!E42 -> 0 | G42: ='PL36'!E42 -> 0 | H42: =SUM('PL37'!H197:H202) -> 0 | I42: =SUM(D42:H42) -> 0 | J42: =ROUND(I42/2.85,1) -> 0
A43: 33 | B43: =IF('PL33'!B43="","",'PL33'!B43) | C43: =IF('PL33'!C43="","",'PL33'!C43) | D43: ='PL33'!I43 -> 0 | E43: =IF(('PL34.1'!AZ43+SUM('PL34.2'!P331:P340))>50,50,'PL34.1'!AZ43+SUM('PL34.2'!P331:P340)) -> 0 | F43: ='PL35'!E43 -> 0 | G43: ='PL36'!E43 -> 0 | H43: =SUM('PL37'!H203:H208) -> 0 | I43: =SUM(D43:H43) -> 0 | J43: =ROUND(I43/2.85,1) -> 0
A44: 34 | B44: =IF('PL33'!B44="","",'PL33'!B44) | C44: =IF('PL33'!C44="","",'PL33'!C44) | D44: ='PL33'!I44 -> 0 | E44: =IF(('PL34.1'!AZ44+SUM('PL34.2'!P341:P350))>50,50,'PL34.1'!AZ44+SUM('PL34.2'!P341:P350)) -> 0 | F44: ='PL35'!E44 -> 0 | G44: ='PL36'!E44 -> 0 | H44: =SUM('PL37'!H209:H214) -> 0 | I44: =SUM(D44:H44) -> 0 | J44: =ROUND(I44/2.85,1) -> 0
A45: 35 | B45: =IF('PL33'!B45="","",'PL33'!B45) | C45: =IF('PL33'!C45="","",'PL33'!C45) | D45: ='PL33'!I45 -> 0 | E45: =IF(('PL34.1'!AZ45+SUM('PL34.2'!P351:P360))>50,50,'PL34.1'!AZ45+SUM('PL34.2'!P351:P360)) -> 0 | F45: ='PL35'!E45 -> 0 | G45: ='PL36'!E45 -> 0 | H45: =SUM('PL37'!H215:H220) -> 0 | I45: =SUM(D45:H45) -> 0 | J45: =ROUND(I45/2.85,1) -> 0
A46: 36 | B46: =IF('PL33'!B46="","",'PL33'!B46) | C46: =IF('PL33'!C46="","",'PL33'!C46) | D46: ='PL33'!I46 -> 0 | E46: =IF(('PL34.1'!AZ46+SUM('PL34.2'!P361:P370))>50,50,'PL34.1'!AZ46+SUM('PL34.2'!P361:P370)) -> 0 | F46: ='PL35'!E46 -> 0 | G46: ='PL36'!E46 -> 0 | H46: =SUM('PL37'!H221:H226) -> 0 | I46: =SUM(D46:H46) -> 0 | J46: =ROUND(I46/2.85,1) -> 0
A47: 37 | B47: =IF('PL33'!B47="","",'PL33'!B47) | C47: =IF('PL33'!C47="","",'PL33'!C47) | D47: ='PL33'!I47 -> 0 | E47: =IF(('PL34.1'!AZ47+SUM('PL34.2'!P371:P380))>50,50,'PL34.1'!AZ47+SUM('PL34.2'!P371:P380)) -> 0 | F47: ='PL35'!E47 -> 0 | G47: ='PL36'!E47 -> 0 | H47: =SUM('PL37'!H227:H232) -> 0 | I47: =SUM(D47:H47) -> 0 | J47: =ROUND(I47/2.85,1) -> 0
A48: 38 | B48: =IF('PL33'!B48="","",'PL33'!B48) | C48: =IF('PL33'!C48="","",'PL33'!C48) | D48: ='PL33'!I48 -> 0 | E48: =IF(('PL34.1'!AZ48+SUM('PL34.2'!P381:P390))>50,50,'PL34.1'!AZ48+SUM('PL34.2'!P381:P390)) -> 0 | F48: ='PL35'!E48 -> 0 | G48: ='PL36'!E48 -> 0 | H48: =SUM('PL37'!H233:H238) -> 0 | I48: =SUM(D48:H48) -> 0 | J48: =ROUND(I48/2.85,1) -> 0
A49: 39 | B49: =IF('PL33'!B49="","",'PL33'!B49) | C49: =IF('PL33'!C49="","",'PL33'!C49) | D49: ='PL33'!I49 -> 0 | E49: =IF(('PL34.1'!AZ49+SUM('PL34.2'!P391:P400))>50,50,'PL34.1'!AZ49+SUM('PL34.2'!P391:P400)) -> 0 | F49: ='PL35'!E49 -> 0 | G49: ='PL36'!E49 -> 0 | H49: =SUM('PL37'!H239:H244) -> 0 | I49: =SUM(D49:H49) -> 0 | J49: =ROUND(I49/2.85,1) -> 0
A50: 40 | B50: =IF('PL33'!B50="","",'PL33'!B50) | C50: =IF('PL33'!C50="","",'PL33'!C50) | D50: ='PL33'!I50 -> 0 | E50: =IF(('PL34.1'!AZ50+SUM('PL34.2'!P401:P410))>50,50,'PL34.1'!AZ50+SUM('PL34.2'!P401:P410)) -> 0 | F50: ='PL35'!E50 -> 0 | G50: ='PL36'!E50 -> 0 | H50: =SUM('PL37'!H245:H250) -> 0 | I50: =SUM(D50:H50) -> 0 | J50: =ROUND(I50/2.85,1) -> 0
A51: 41 | B51: =IF('PL33'!B51="","",'PL33'!B51) | C51: =IF('PL33'!C51="","",'PL33'!C51) | D51: ='PL33'!I51 -> 0 | E51: =IF(('PL34.1'!AZ51+SUM('PL34.2'!P411:P420))>50,50,'PL34.1'!AZ51+SUM('PL34.2'!P411:P420)) -> 0 | F51: ='PL35'!E51 -> 0 | G51: ='PL36'!E51 -> 0 | H51: =SUM('PL37'!H251:H256) -> 0 | I51: =SUM(D51:H51) -> 0 | J51: =ROUND(I51/2.85,1) -> 0
A52: 42 | B52: =IF('PL33'!B52="","",'PL33'!B52) | C52: =IF('PL33'!C52="","",'PL33'!C52) | D52: ='PL33'!I52 -> 0 | E52: =IF(('PL34.1'!AZ52+SUM('PL34.2'!P421:P430))>50,50,'PL34.1'!AZ52+SUM('PL34.2'!P421:P430)) -> 0 | F52: ='PL35'!E52 -> 0 | G52: ='PL36'!E52 -> 0 | H52: =SUM('PL37'!H257:H262) -> 0 | I52: =SUM(D52:H52) -> 0 | J52: =ROUND(I52/2.85,1) -> 0
A53: 43 | B53: =IF('PL33'!B53="","",'PL33'!B53) | C53: =IF('PL33'!C53="","",'PL33'!C53) | D53: ='PL33'!I53 -> 0 | E53: =IF(('PL34.1'!AZ53+SUM('PL34.2'!P431:P440))>50,50,'PL34.1'!AZ53+SUM('PL34.2'!P431:P440)) -> 0 | F53: ='PL35'!E53 -> 0 | G53: ='PL36'!E53 -> 0 | H53: =SUM('PL37'!H263:H268) -> 0 | I53: =SUM(D53:H53) -> 0 | J53: =ROUND(I53/2.85,1) -> 0
A54: 44 | B54: =IF('PL33'!B54="","",'PL33'!B54) | C54: =IF('PL33'!C54="","",'PL33'!C54) | D54: ='PL33'!I54 -> 0 | E54: =IF(('PL34.1'!AZ54+SUM('PL34.2'!P441:P450))>50,50,'PL34.1'!AZ54+SUM('PL34.2'!P441:P450)) -> 0 | F54: ='PL35'!E54 -> 0 | G54: ='PL36'!E54 -> 0 | H54: =SUM('PL37'!H269:H274) -> 0 | I54: =SUM(D54:H54) -> 0 | J54: =ROUND(I54/2.85,1) -> 0
A55: 45 | B55: =IF('PL33'!B55="","",'PL33'!B55) | C55: =IF('PL33'!C55="","",'PL33'!C55) | D55: ='PL33'!I55 -> 0 | E55: =IF(('PL34.1'!AZ55+SUM('PL34.2'!P451:P460))>50,50,'PL34.1'!AZ55+SUM('PL34.2'!P451:P460)) -> 0 | F55: ='PL35'!E55 -> 0 | G55: ='PL36'!E55 -> 0 | H55: =SUM('PL37'!H275:H280) -> 0 | I55: =SUM(D55:H55) -> 0 | J55: =ROUND(I55/2.85,1) -> 0
A56: 46 | B56: =IF('PL33'!B56="","",'PL33'!B56) | C56: =IF('PL33'!C56="","",'PL33'!C56) | D56: ='PL33'!I56 -> 0 | E56: =IF(('PL34.1'!AZ56+SUM('PL34.2'!P461:P470))>50,50,'PL34.1'!AZ56+SUM('PL34.2'!P461:P470)) -> 0 | F56: ='PL35'!E56 -> 0 | G56: ='PL36'!E56 -> 0 | H56: =SUM('PL37'!H281:H286) -> 0 | I56: =SUM(D56:H56) -> 0 | J56: =ROUND(I56/2.85,1) -> 0
A57: 47 | B57: =IF('PL33'!B57="","",'PL33'!B57) | C57: =IF('PL33'!C57="","",'PL33'!C57) | D57: ='PL33'!I57 -> 0 | E57: =IF(('PL34.1'!AZ57+SUM('PL34.2'!P471:P480))>50,50,'PL34.1'!AZ57+SUM('PL34.2'!P471:P480)) -> 0 | F57: ='PL35'!E57 -> 0 | G57: ='PL36'!E57 -> 0 | H57: =SUM('PL37'!H287:H292) -> 0 | I57: =SUM(D57:H57) -> 0 | J57: =ROUND(I57/2.85,1) -> 0
A58: 48 | B58: =IF('PL33'!B58="","",'PL33'!B58) | C58: =IF('PL33'!C58="","",'PL33'!C58) | D58: ='PL33'!I58 -> 0 | E58: =IF(('PL34.1'!AZ58+SUM('PL34.2'!P481:P490))>50,50,'PL34.1'!AZ58+SUM('PL34.2'!P481:P490)) -> 0 | F58: ='PL35'!E58 -> 0 | G58: ='PL36'!E58 -> 0 | H58: =SUM('PL37'!H293:H298) -> 0 | I58: =SUM(D58:H58) -> 0 | J58: =ROUND(I58/2.85,1) -> 0
A59: 49 | B59: =IF('PL33'!B59="","",'PL33'!B59) | C59: =IF('PL33'!C59="","",'PL33'!C59) | D59: ='PL33'!I59 -> 0 | E59: =IF(('PL34.1'!AZ59+SUM('PL34.2'!P491:P500))>50,50,'PL34.1'!AZ59+SUM('PL34.2'!P491:P500)) -> 0 | F59: ='PL35'!E59 -> 0 | G59: ='PL36'!E59 -> 0 | H59: =SUM('PL37'!H299:H304) -> 0 | I59: =SUM(D59:H59) -> 0 | J59: =ROUND(I59/2.85,1) -> 0
A60: 50 | B60: =IF('PL33'!B60="","",'PL33'!B60) | C60: =IF('PL33'!C60="","",'PL33'!C60) | D60: ='PL33'!I60 -> 0 | E60: =IF(('PL34.1'!AZ60+SUM('PL34.2'!P501:P510))>50,50,'PL34.1'!AZ60+SUM('PL34.2'!P501:P510)) -> 0 | F60: ='PL35'!E60 -> 0 | G60: ='PL36'!E60 -> 0 | H60: =SUM('PL37'!H305:H310) -> 0 | I60: =SUM(D60:H60) -> 0 | J60: =ROUND(I60/2.85,1) -> 0
A61: TỔNG CỘNG | D61: =SUM(D11:D60) -> 8 | E61: =SUM(E11:E60) -> 114 | F61: =SUM(F11:F60) -> 2 | G61: =SUM(G11:G60) -> 2 | H61: =SUM(H11:H60) -> 8.1 | I61: =SUM(I11:I60) -> 134.1 | J61: =SUM(J11:J60) -> 47.1
A63: Cột (3): Chuyển số liệu từ bảng PL33 | F63: Cột (4): Chuyển số liệu từ bảng PL34.1 và PL34.2
A64: Cột (5): Chuyển số liệu từ bảng PL35 | F64: Cột (6): Chuyển số liệu từ bảng PL36
A65: Cột (7): Chuyển số liệu từ bảng PL37 | F65: Cột (9) = Cột (8)/2.85
J66: Tp. HCM, ngày tháng năm 2018
B67: TRƯỞNG PHÒNG TS-ĐT | F67: TRƯỞNG PHÒNG KT&ĐBCL | J67: TRƯỞNG KHOA

Sheet Mau B1
E1: Mẫu B1
A2: UBND THÀNH PHỐ HỒ CHÍ MINH | D2: CỘNG HÒA XÃ HỘI CHỦ NGHĨA VIỆT NAM
A3: TRƯỜNG CAO ĐẲNG LÝ TỰ TRỌNG THÀNH PHỐ HỒ CHÍ MINH | D3: Độc lập - Tự do - Hạnh Phúc
A5: BẢNG TỔNG HỢP CÔNG TÁC SOẠN ĐỀ, COI, CHẤM KIỂM TRA (THI)
A6: NĂM HỌC 2017 - 2018
A7: KHOA: ………………………
A9: TT | B9: HỌ VÀ TÊN GIẢNG VIÊN | D9: TỔNG SỐ TIẾT THỰC HIỆN | E9: GHI CHÚ
A11: 1 | B11: =IF('PL33'!B11="","",'PL33'!B11) -> Ngô Hoàng | C11: =IF('PL33'!C11="","",'PL33'!C11) -> Anh | D11: 11
A12: 2 | B12: =IF('PL33'!B12="","",'PL33'!B12) -> Châu Văn | C12: =IF('PL33'!C12="","",'PL33'!C12) -> Bảo
A13: 3 | B13: =IF('PL33'!B13="","",'PL33'!B13) -> Vũ Hạnh | C13: =IF('PL33'!C13="","",'PL33'!C13) -> Chiêu
A14: 4 | B14: =IF('PL33'!B14="","",'PL33'!B14) -> Ngô Phong | C14: =IF('PL33'!C14="","",'PL33'!C14) -> Cường
A15: 5 | B15: =IF('PL33'!B15="","",'PL33'!B15) -> Nguyễn Minh Đức | C15: =IF('PL33'!C15="","",'PL33'!C15) -> Cường
A16: 6 | B16: =IF('PL33'!B16="","",'PL33'!B16) -> Tạ Minh | C16: =IF('PL33'!C16="","",'PL33'!C16) -> Cường
A17: 7 | B17: =IF('PL33'!B17="","",'PL33'!B17) -> Võ | C17: =IF('PL33'!C17="","",'PL33'!C17) -> Cường
A18: 8 | B18: =IF('PL33'!B18="","",'PL33'!B18) -> Nguyễn Thùy | C18: =IF('PL33'!C18="","",'PL33'!C18) -> Dương
A19: 9 | B19: =IF('PL33'!B19="","",'PL33'!B19) -> Lê Tiến | C19: =IF('PL33'!C19="","",'PL33'!C19) -> Đạt
A20: 10 | B20: =IF('PL33'!B20="","",'PL33'!B20) -> Nguyễn Hồng | C20: =IF('PL33'!C20="","",'PL33'!C20) -> Đức
A21: 11 | B21: =IF('PL33'!B21="","",'PL33'!B21) -> Nguyễn Minh | C21: =IF('PL33'!C21="","",'PL33'!C21) -> Đức(A)
A22: 12 | B22: =IF('PL33'!B22="","",'PL33'!B22) -> Nguyễn Minh | C22: =IF('PL33'!C22="","",'PL33'!C22) -> Đức(B)
A23: 13 | B23: =IF('PL33'!B23="","",'PL33'!B23) -> Nguyễn Thị Ngọc | C23: =IF('PL33'!C23="","",'PL33'!C23) -> Hiền
... A60: 50 | B60: =IF('PL33'!B60="","",'PL33'!B60) | C60: =IF('PL33'!C60="","",'PL33'!C60)
A61: TỔNG CỘNG | D61: =SUM(D11:D60) -> 11
D63: Tp.HCM, Ngày tháng năm 2018
B64: Trưởng Khoa | D64: Người lập biểu

Sheet Mau B2
I1: Mẫu B2
A2: UBND THÀNH PHỐ HỒ CHÍ MINH | E2: CỘNG HÒA XÃ HỘI CHỦ NGHĨA VIỆT NAM
A3: TRƯỜNG CAO ĐẲNG LÝ TỰ TRỌNG THÀNH PHỐ HỒ CHÍ MINH | E3: Độc lập - Tự do - Hạnh phúc
A5: BẢNG TỔNG HỢP THỰC TẬP TẠI DOANH NGHIỆP / CƠ QUAN CHUYÊN MÔN
A6: NĂM HỌC 2017 - 2018
A7: KHOA: ĐIỆN - ĐIỆN TỬ
A9: TT | B9: HỌ VÀ TÊN GIẢNG VIÊN | D9: THỜI GIAN THAM DỰ | I9: TỔNG SỐ TIẾT ĐƯỢC TÍNH | J9: GHI CHÚ
D10: 23-28/6/2018 | E10: 23-28/7/2018
A11: 1 | B11: =IF('PL33'!B11="","",'PL33'!B11) -> Ngô Hoàng | C11: =IF('PL33'!C11="","",'PL33'!C11) -> Anh | D11: 40 | E11: 26 | F11: 50 | G11: 44 | I11: =ROUND(SUM(D11:H11)/2.85,0) -> 56 | J11: Các cột nhập số giờ
A12: 2 | B12: =IF('PL33'!B12="","",'PL33'!B12) -> Châu Văn | C12: =IF('PL33'!C12="","",'PL33'!C12) -> Bảo | D12: 40 | E12: 16 | F12: 2 | G12: 5 | I12: =ROUND(SUM(D12:H12)/2.85,0) -> 22
A13: 3 | B13: =IF('PL33'!B13="","",'PL33'!B13) -> Vũ Hạnh | C13: =IF('PL33'!C13="","",'PL33'!C13) -> Chiêu | I13: =ROUND(SUM(D13:H13)/2.85,0) -> 0
A14: 4 | B14: =IF('PL33'!B14="","",'PL33'!B14) -> Ngô Phong | C14: =IF('PL33'!C14="","",'PL33'!C14) -> Cường | I14: =ROUND(SUM(D14:H14)/2.85,0) -> 0
A15: 5 | B15: =IF('PL33'!B15="","",'PL33'!B15) -> Nguyễn Minh Đức | C15: =IF('PL33'!C15="","",'PL33'!C15) -> Cường | I15: =ROUND(SUM(D15:H15)/2.85,0) -> 0
A16: 6 | B16: =IF('PL33'!B16="","",'PL33'!B16) -> Tạ Minh | C16: =IF('PL33'!C16="","",'PL33'!C16) -> Cường | I16: =ROUND(SUM(D16:H16)/2.85,0) -> 0
A17: 7 | B17: =IF('PL33'!B17="","",'PL33'!B17) -> Võ | C17: =IF('PL33'!C17="","",'PL33'!C17) -> Cường | I17: =ROUND(SUM(D17:H17)/2.85,0) -> 0
A18: 8 | B18: =IF('PL33'!B18="","",'PL33'!B18) -> Nguyễn Thùy | C18: =IF('PL33'!C18="","",'PL33'!C18) -> Dương | I18: =ROUND(SUM(D18:H18)/2.85,0) -> 0
A19: 9 | B19: =IF('PL33'!B19="","",'PL33'!B19) -> Lê Tiến | C19: =IF('PL33'!C19="","",'PL33'!C19) -> Đạt | I19: =ROUND(SUM(D19:H19)/2.85,0) -> 0
A20: 10 | B20: =IF('PL33'!B20="","",'PL33'!B20) -> Nguyễn Hồng | C20: =IF('PL33'!C20="","",'PL33'!C20) -> Đức | I20: =ROUND(SUM(D20:H20)/2.85,0) -> 0
A21: 11 | B21: =IF('PL33'!B21="","",'PL33'!B21) -> Nguyễn Minh | C21: =IF('PL33'!C21="","",'PL33'!C21) -> Đức(A) | I21: =ROUND(SUM(D21:H21)/2.85,0) -> 0
A22: 12 | B22: =IF('PL33'!B22="","",'PL33'!B22) -> Nguyễn Minh | C22: =IF('PL33'!C22="","",'PL33'!C22) -> Đức(B) | I22: =ROUND(SUM(D22:H22)/2.85,0) -> 0
A23: 13 | B23: =IF('PL33'!B23="","",'PL33'!B23) -> Nguyễn Thị Ngọc | C23: =IF('PL33'!C23="","",'PL33'!C23) -> Hiền | I23: =ROUND(SUM(D23:H23)/2.85,0) -> 0
A24: 14 | B24: =IF('PL33'!B24="","",'PL33'!B24) -> Trần Trung | C24: =IF('PL33'!C24="","",'PL33'!C24) -> Hiếu | I24: =ROUND(SUM(D24:H24)/2.85,0) -> 0
... A60: 50 | B60: =IF('PL33'!B60="","",'PL33'!B60) | C60: =IF('PL33'!C60="","",'PL33'!C60) | I60: =ROUND(SUM(D60:H60)/2.85,0) -> 0
B62: Minh chứng nộp kèm: Kế hoạch do Nhà trường hoặc khoa lập và được Hiệu trưởng duyệt; Danh sách tham dự thực tế. | F62: Tp.HCM, Ngày tháng năm 2018
C63: Trưởng Khoa | F63: Người lập biểu

Sheet B2_tuấn
J1: Mẫu B2
A2: UBND THÀNH PHỐ HỒ CHÍ MINH | E2: CỘNG HÒA XÃ HỘI CHỦ NGHĨA VIỆT NAM
A3: TRƯỜNG CAO ĐẲNG LÝ TỰ TRỌNG THÀNH PHỐ HỒ CHÍ MINH | E3: Độc lập - Tự do - Hạnh phúc
A5: BẢNG TỔNG HỢP THỰC TẬP TẠI DOANH NGHIỆP / CƠ QUAN CHUYÊN MÔN
A6: NĂM HỌC 2017 - 2018
A7: KHOA: ĐIỆN - ĐIỆN TỬ
A9: TT | B9: HỌ VÀ TÊN GIẢNG VIÊN | D9: THỜI GIAN THAM DỰ | J9: TỔNG SỐ TIẾT ĐƯỢC TÍNH | K9: GHI CHÚ
D10: Tháng 1 | E10: Tháng 2 | F10: Tháng 3 | G10: Tháng 4 | H10: Tháng 5 | I10: Tháng 6
A11: 1 | B11: Ngô Hoàng | C11: Anh | E11: 40 | F11: 88 | G11: 80 | H11: 24 | J11: =SUM(D11:H11) -> 232 | K11: Các cột nhập số giờ
A12: 2 | B12: Châu Văn | C12: Bảo | D12: 56 | E12: 64 | F12: 16 | G12: 24 | J12: =SUM(D12:H12) -> 160
A13: 3 | B13: Vũ Hạnh | C13: Chiêu | F13: 64 | G13: 80 | H13: 16 | J13: =SUM(D13:H13) -> 160
A14: 4 | B14: Ngô Phong | C14: Cường | D14: 24 | E14: 16 | F14: 72 | G14: 32 | H14: 16 | J14: =SUM(D14:H14) -> 160
A15: 5 | B15: Nguyễn Minh Đức | C15: Cường | E15: 88 | F15: 48 | G15: 24 | J15: =SUM(D15:H15) -> 160
A16: 6 | B16: Tạ Minh | C16: Cường | D16: 24 | E16: 16 | F16: 88 | G16: 32 | J16: =SUM(D16:H16) -> 160
A17: 7 | B17: Võ | C17: Cường | D17: 104 | E17: 8 | G17: 48 | J17: =SUM(D17:H17) -> 160
A18: 8 | B18: Nguyễn Thùy | C18: Dương | F18: 68 | G18: 72 | H18: 20 | J18: =SUM(D18:H18) -> 160
A19: 9 | B19: Lê Tiến | C19: Đạt | E19: 96 | F19: 36 | G19: 28 | J19: =SUM(D19:H19) -> 160
A20: 10 | B20: Nguyễn Hồng | C20: Đức | D20: 24 | E20: 8 | F20: 80 | G20: 48 | J20: =SUM(D20:H20) -> 160
A21: 11 | B21: Nguyễn Minh | C21: Đức(A) | D21: 40 | E21: 16 | F21: 48 | G21: 48 | H21: 8 | J21: =SUM(D21:H21) -> 160
A22: 12 | B22: Nguyễn Minh | C22: Đức(B) | D22: 32 | E22: 12 | F22: 52 | G22: 36 | H22: 28 | J22: =SUM(D22:H22) -> 160
A23: 13 | B23: Nguyễn Thị Ngọc | C23: Hiền | D23: 48 | E23: 48 | F23: 48 | G23: 32 | J23: =SUM(D23:H23) -> 176
A24: 14 | B24: Trần Trung | C24: Hiếu | F24: 32 | G24: 32 | H24: 64 | I24: 32 | J24: =SUM(D24:I24) -> 160
A25: 15 | B25: Mạnh Lê | C25: Hoàn | E25: 80 | F25: 72 | G25: 104 | H25: 24 | J25: =SUM(D25:H25) -> 280
A26: 16 | B26: Lê Thế | C26: Huân | D26: 16 | E26: 12 | F26: 48 | G26: 64 | H26: 20 | J26: =SUM(D26:H26) -> 160
A27: 17 | B27: Tăng Cẩm | C27: Huê | D27: 32 | E27: 88 | F27: 88 | J27: =SUM(D27:H27) -> 208
A28: 18 | B28: Nguyễn Thùy | C28: Linh | F28: 80 | G28: 88 | J28: =SUM(D28:H28) -> 168
A29: 19 | B29: Huỳnh Ngọc | C29: Mai | F29: 44 | G29: 60 | H29: 56 | I29: 8 | J29: =SUM(D29:I29) -> 168
A30: 20 | B30: Đặng Đức | C30: Minh | D30: 16 | E30: 112 | F30: 32 | J30: =SUM(D30:H30) -> 160
A31: 21 | B31: Nguyễn Thị Tố | C31: Nga | D31: 60 | E31: 100 | J31: =SUM(D31:H31) -> 160
A32: 22 | B32: Nguyễn Trần Thanh | C32: Nhàn | D32: 24 | E32: 96 | F32: 88 | J32: =SUM(D32:H32) -> 208
A33: 23 | B33: Đỗ Huỳnh Thanh | C33: Phong | E33: 80 | F33: 64 | G33: 16 | J33: =SUM(D33:H33) -> 160
A34: 24 | B34: Nguyễn Anh | C34: Tăng | E34: 80 | F34: 64 | G34: 16 | J34: =SUM(D34:H34) -> 160
A35: 25 | B35: Quách Minh | C35: Thử | D35: 32 | E35: 16 | F35: 64 | G35: 48 | J35: =SUM(D35:H35) -> 160
A36: 26 | B36: Trần Công | C36: Tiến | E36: 72 | F36: 64 | G36: 24 | J36: =SUM(D36:H36) -> 160
A37: 27 | B37: Bốc Minh | C37: Trí | D37: 32 | E37: 12 | F37: 52 | G37: 48 | H37: 16 | J37: =SUM(D37:H37) -> 160
A38: 28 | B38: Trần Hiếu | C38: Trinh | D38: 32 | E38: 80 | F38: 40 | G38: 8 | J38: =SUM(D38:H38) -> 160
A39: 29 | B39: Trần Nguyên Bảo | C39: Trân | D39: 36 | E39: 8 | F39: 56 | G39: 56 | H39: 4 | J39: =SUM(D39:H39) -> 160
A40: 30 | B40: Nguyễn Văn | C40: Yên | D40: 8 | E40: 68 | F40: 52 | G40: 28 | H40: 4 | J40: =SUM(D40:H40) -> 160
A41: 31 | B41: Trần Nam | C41: Anh | J41: =SUM(D41:H41) -> 0
A42: 32 | B42: Cao Văn | C42: Tuấn | J42: =SUM(D42:H42) -> 0
A43: 33 | J43: 0
A44: 34 | J44: 0
A45: 35 | J45: 0
A46: 36 | J46: 0
A47: 37 | J47: 0
A48: 38 | J48: 0
A49: 39 | J49: 0
A50: 40 | J50: 0
A51: 41 | J51: 0
A52: 42 | J52: 0
A53: 43 | J53: 0
A54: 44 | J54: 0
... A60: 50 | J60: 0
B62: Minh chứng nộp kèm: Kế hoạch do Nhà trường hoặc khoa lập và được Hiệu trưởng duyệt; Danh sách tham dự thực tế. | F62: Tp.HCM, Ngày tháng năm 2018
C63: Trưởng Khoa | F63: Người lập biểu
